BEGIN:VCALENDAR
VERSION:2.0
PRODID:-//Mäsimusig - ECPv6.15.20//NONSGML v1.0//EN
CALSCALE:GREGORIAN
METHOD:PUBLISH
X-WR-CALNAME:Mäsimusig
X-ORIGINAL-URL:https://xn--msimusig-0za.ch
X-WR-CALDESC:Veranstaltungen im Mäsimusig
REFRESH-INTERVAL;VALUE=DURATION:PT1H
X-Robots-Tag:noindex
X-PUBLISHED-TTL:PT1H
BEGIN:VTIMEZONE
TZID:Europe/Zurich
BEGIN:DAYLIGHT
TZOFFSETFROM:+0100
TZOFFSETTO:+0200
TZNAME:CEST
DTSTART:20200329T010000
END:DAYLIGHT
BEGIN:STANDARD
TZOFFSETFROM:+0200
TZOFFSETTO:+0100
TZNAME:CET
DTSTART:20201025T010000
END:STANDARD
BEGIN:DAYLIGHT
TZOFFSETFROM:+0100
TZOFFSETTO:+0200
TZNAME:CEST
DTSTART:20210328T010000
END:DAYLIGHT
BEGIN:STANDARD
TZOFFSETFROM:+0200
TZOFFSETTO:+0100
TZNAME:CET
DTSTART:20211031T010000
END:STANDARD
BEGIN:DAYLIGHT
TZOFFSETFROM:+0100
TZOFFSETTO:+0200
TZNAME:CEST
DTSTART:20220327T010000
END:DAYLIGHT
BEGIN:STANDARD
TZOFFSETFROM:+0200
TZOFFSETTO:+0100
TZNAME:CET
DTSTART:20221030T010000
END:STANDARD
END:VTIMEZONE
BEGIN:VEVENT
DTSTART;TZID=Europe/Zurich:20211024T110000
DTEND;TZID=Europe/Zurich:20211024T123000
DTSTAMP:20260425T231402
CREATED:20210720T105202Z
LAST-MODIFIED:20210720T105330Z
UID:520-1635073200-1635078600@xn--msimusig-0za.ch
SUMMARY:Gottesdienstgestalltung mit Active Orchestra
DESCRIPTION:Es spielen Schülerinnen und Schüler der Musikschule Gommiswald unter der Leitung von Katja Knobel Marty und Marcel Hässig
URL:https://xn--msimusig-0za.ch/event/gottesdienstgestalltung-mit-active-orchestra/
LOCATION:Kath. Kirche\, Uznach\, SG\, 8730
CATEGORIES:Schülerprojekte
END:VEVENT
END:VCALENDAR