BEGIN:VCALENDAR
VERSION:2.0
PRODID:-//Mäsimusig - ECPv6.15.20//NONSGML v1.0//EN
CALSCALE:GREGORIAN
METHOD:PUBLISH
X-ORIGINAL-URL:https://xn--msimusig-0za.ch
X-WR-CALDESC:Veranstaltungen im Mäsimusig
REFRESH-INTERVAL;VALUE=DURATION:PT1H
X-Robots-Tag:noindex
X-PUBLISHED-TTL:PT1H
BEGIN:VTIMEZONE
TZID:Europe/Zurich
BEGIN:DAYLIGHT
TZOFFSETFROM:+0100
TZOFFSETTO:+0200
TZNAME:CEST
DTSTART:20210328T010000
END:DAYLIGHT
BEGIN:STANDARD
TZOFFSETFROM:+0200
TZOFFSETTO:+0100
TZNAME:CET
DTSTART:20211031T010000
END:STANDARD
BEGIN:DAYLIGHT
TZOFFSETFROM:+0100
TZOFFSETTO:+0200
TZNAME:CEST
DTSTART:20220327T010000
END:DAYLIGHT
BEGIN:STANDARD
TZOFFSETFROM:+0200
TZOFFSETTO:+0100
TZNAME:CET
DTSTART:20221030T010000
END:STANDARD
BEGIN:DAYLIGHT
TZOFFSETFROM:+0100
TZOFFSETTO:+0200
TZNAME:CEST
DTSTART:20230326T010000
END:DAYLIGHT
BEGIN:STANDARD
TZOFFSETFROM:+0200
TZOFFSETTO:+0100
TZNAME:CET
DTSTART:20231029T010000
END:STANDARD
BEGIN:DAYLIGHT
TZOFFSETFROM:+0100
TZOFFSETTO:+0200
TZNAME:CEST
DTSTART:20240331T010000
END:DAYLIGHT
BEGIN:STANDARD
TZOFFSETFROM:+0200
TZOFFSETTO:+0100
TZNAME:CET
DTSTART:20241027T010000
END:STANDARD
END:VTIMEZONE
BEGIN:VEVENT
DTSTART;TZID=Europe/Zurich:20230423T113000
DTEND;TZID=Europe/Zurich:20230423T130000
DTSTAMP:20260425T125459
CREATED:20230217T153056Z
LAST-MODIFIED:20230217T153429Z
UID:829-1682249400-1682254800@xn--msimusig-0za.ch
SUMMARY:1. Kommuinionsfeier
DESCRIPTION:Zusammen mit dem Kirchenchor Walde
URL:https://xn--msimusig-0za.ch/event/1-kommuinionsfeier/
LOCATION:Kath. Kirche 8735 St.Gallenkappel
END:VEVENT
BEGIN:VEVENT
DTSTART;TZID=Europe/Zurich:20220501T120000
DTEND;TZID=Europe/Zurich:20220501T133000
DTSTAMP:20260425T125459
CREATED:20211230T101403Z
LAST-MODIFIED:20211230T102206Z
UID:586-1651406400-1651411800@xn--msimusig-0za.ch
SUMMARY:1. Kommunionsgottesdienst
DESCRIPTION:zusammen mit dem \nKirchenchor Walde
URL:https://xn--msimusig-0za.ch/event/1-kommunionsgottesdienst/
LOCATION:Kath. Kirche 8735 St.Gallenkappel
END:VEVENT
END:VCALENDAR