BEGIN:VCALENDAR
VERSION:2.0
PRODID:-//Mäsimusig - ECPv6.15.20//NONSGML v1.0//EN
CALSCALE:GREGORIAN
METHOD:PUBLISH
X-WR-CALNAME:Mäsimusig
X-ORIGINAL-URL:https://xn--msimusig-0za.ch
X-WR-CALDESC:Veranstaltungen im Mäsimusig
REFRESH-INTERVAL;VALUE=DURATION:PT1H
X-Robots-Tag:noindex
X-PUBLISHED-TTL:PT1H
BEGIN:VTIMEZONE
TZID:Europe/Zurich
BEGIN:DAYLIGHT
TZOFFSETFROM:+0100
TZOFFSETTO:+0200
TZNAME:CEST
DTSTART:20210328T010000
END:DAYLIGHT
BEGIN:STANDARD
TZOFFSETFROM:+0200
TZOFFSETTO:+0100
TZNAME:CET
DTSTART:20211031T010000
END:STANDARD
BEGIN:DAYLIGHT
TZOFFSETFROM:+0100
TZOFFSETTO:+0200
TZNAME:CEST
DTSTART:20220327T010000
END:DAYLIGHT
BEGIN:STANDARD
TZOFFSETFROM:+0200
TZOFFSETTO:+0100
TZNAME:CET
DTSTART:20221030T010000
END:STANDARD
BEGIN:DAYLIGHT
TZOFFSETFROM:+0100
TZOFFSETTO:+0200
TZNAME:CEST
DTSTART:20230326T010000
END:DAYLIGHT
BEGIN:STANDARD
TZOFFSETFROM:+0200
TZOFFSETTO:+0100
TZNAME:CET
DTSTART:20231029T010000
END:STANDARD
BEGIN:DAYLIGHT
TZOFFSETFROM:+0100
TZOFFSETTO:+0200
TZNAME:CEST
DTSTART:20240331T010000
END:DAYLIGHT
BEGIN:STANDARD
TZOFFSETFROM:+0200
TZOFFSETTO:+0100
TZNAME:CET
DTSTART:20241027T010000
END:STANDARD
BEGIN:DAYLIGHT
TZOFFSETFROM:+0100
TZOFFSETTO:+0200
TZNAME:CEST
DTSTART:20250330T010000
END:DAYLIGHT
BEGIN:STANDARD
TZOFFSETFROM:+0200
TZOFFSETTO:+0100
TZNAME:CET
DTSTART:20251026T010000
END:STANDARD
BEGIN:DAYLIGHT
TZOFFSETFROM:+0100
TZOFFSETTO:+0200
TZNAME:CEST
DTSTART:20260329T010000
END:DAYLIGHT
BEGIN:STANDARD
TZOFFSETFROM:+0200
TZOFFSETTO:+0100
TZNAME:CET
DTSTART:20261025T010000
END:STANDARD
END:VTIMEZONE
BEGIN:VEVENT
DTSTART;TZID=Europe/Zurich:20251130T170000
DTEND;TZID=Europe/Zurich:20251130T190000
DTSTAMP:20260424T161043
CREATED:20250609T090326Z
LAST-MODIFIED:20251123T200022Z
UID:1577-1764522000-1764529200@xn--msimusig-0za.ch
SUMMARY:George Hug & TUMENI NOTES???
DESCRIPTION:Weihnachtskonzert in der Kirche z Bängge
URL:https://xn--msimusig-0za.ch/event/george-hug-tumeni-notes-2/
LOCATION:Kath. Kirche 8717 Benken
CATEGORIES:Events,George Hug,Tumeni Notes???
END:VEVENT
BEGIN:VEVENT
DTSTART;TZID=Europe/Zurich:20220122T150000
DTEND;TZID=Europe/Zurich:20220122T173000
DTSTAMP:20260424T161043
CREATED:20211230T085014Z
LAST-MODIFIED:20220119T210300Z
UID:554-1642863600-1642872600@xn--msimusig-0za.ch
SUMMARY:Regionales Ensemblekonzert VERSCHOBEN AUF 19. FEBRUAR
DESCRIPTION:Es spielen verschiedene Ensembles unter der Leitung von Caroline Thoma und Marcel Hässig
URL:https://xn--msimusig-0za.ch/event/regionales-ensemblekonzert/
LOCATION:Kath. Kirche 8717 Benken
CATEGORIES:Events,Schülerprojekte
END:VEVENT
END:VCALENDAR