BEGIN:VCALENDAR
VERSION:2.0
PRODID:-//Mäsimusig - ECPv6.15.20//NONSGML v1.0//EN
CALSCALE:GREGORIAN
METHOD:PUBLISH
X-ORIGINAL-URL:https://xn--msimusig-0za.ch
X-WR-CALDESC:Veranstaltungen im Mäsimusig
REFRESH-INTERVAL;VALUE=DURATION:PT1H
X-Robots-Tag:noindex
X-PUBLISHED-TTL:PT1H
BEGIN:VTIMEZONE
TZID:Europe/Zurich
BEGIN:DAYLIGHT
TZOFFSETFROM:+0100
TZOFFSETTO:+0200
TZNAME:CEST
DTSTART:20200329T010000
END:DAYLIGHT
BEGIN:STANDARD
TZOFFSETFROM:+0200
TZOFFSETTO:+0100
TZNAME:CET
DTSTART:20201025T010000
END:STANDARD
BEGIN:DAYLIGHT
TZOFFSETFROM:+0100
TZOFFSETTO:+0200
TZNAME:CEST
DTSTART:20210328T010000
END:DAYLIGHT
BEGIN:STANDARD
TZOFFSETFROM:+0200
TZOFFSETTO:+0100
TZNAME:CET
DTSTART:20211031T010000
END:STANDARD
BEGIN:DAYLIGHT
TZOFFSETFROM:+0100
TZOFFSETTO:+0200
TZNAME:CEST
DTSTART:20220327T010000
END:DAYLIGHT
BEGIN:STANDARD
TZOFFSETFROM:+0200
TZOFFSETTO:+0100
TZNAME:CET
DTSTART:20221030T010000
END:STANDARD
END:VTIMEZONE
BEGIN:VEVENT
DTSTART;TZID=Europe/Zurich:20211231T200000
DTEND;TZID=Europe/Zurich:20211231T220000
DTSTAMP:20260425T122212
CREATED:20210720T103624Z
LAST-MODIFIED:20210720T103624Z
UID:512-1640980800-1640988000@xn--msimusig-0za.ch
SUMMARY:Silverster Party
DESCRIPTION:George Hug & Band
URL:https://xn--msimusig-0za.ch/event/silverster-party/
LOCATION:Heugadä\, Kulmerau\, LU\, 6234
CATEGORIES:George Hug
END:VEVENT
BEGIN:VEVENT
DTSTART;TZID=Europe/Zurich:20210801T130000
DTEND;TZID=Europe/Zurich:20210801T170000
DTSTAMP:20260425T122212
CREATED:20210720T101709Z
LAST-MODIFIED:20210720T101709Z
UID:499-1627822800-1627837200@xn--msimusig-0za.ch
SUMMARY:Country Brunch
DESCRIPTION:George Hug & Band
URL:https://xn--msimusig-0za.ch/event/country-brunch-2/
LOCATION:Heugadä\, Kulmerau\, LU\, 6234
CATEGORIES:George Hug
END:VEVENT
END:VCALENDAR