BEGIN:VCALENDAR
VERSION:2.0
PRODID:-//Mäsimusig - ECPv6.15.20//NONSGML v1.0//EN
CALSCALE:GREGORIAN
METHOD:PUBLISH
X-ORIGINAL-URL:https://xn--msimusig-0za.ch
X-WR-CALDESC:Veranstaltungen im Mäsimusig
REFRESH-INTERVAL;VALUE=DURATION:PT1H
X-Robots-Tag:noindex
X-PUBLISHED-TTL:PT1H
BEGIN:VTIMEZONE
TZID:Europe/Zurich
BEGIN:DAYLIGHT
TZOFFSETFROM:+0100
TZOFFSETTO:+0200
TZNAME:CEST
DTSTART:20210328T010000
END:DAYLIGHT
BEGIN:STANDARD
TZOFFSETFROM:+0200
TZOFFSETTO:+0100
TZNAME:CET
DTSTART:20211031T010000
END:STANDARD
BEGIN:DAYLIGHT
TZOFFSETFROM:+0100
TZOFFSETTO:+0200
TZNAME:CEST
DTSTART:20220327T010000
END:DAYLIGHT
BEGIN:STANDARD
TZOFFSETFROM:+0200
TZOFFSETTO:+0100
TZNAME:CET
DTSTART:20221030T010000
END:STANDARD
BEGIN:DAYLIGHT
TZOFFSETFROM:+0100
TZOFFSETTO:+0200
TZNAME:CEST
DTSTART:20230326T010000
END:DAYLIGHT
BEGIN:STANDARD
TZOFFSETFROM:+0200
TZOFFSETTO:+0100
TZNAME:CET
DTSTART:20231029T010000
END:STANDARD
END:VTIMEZONE
BEGIN:VEVENT
DTSTART;TZID=Europe/Zurich:20220521T233000
DTEND;TZID=Europe/Zurich:20220522T030000
DTSTAMP:20260424T131640
CREATED:20220228T160232Z
LAST-MODIFIED:20220511T054952Z
UID:604-1653175800-1653188400@xn--msimusig-0za.ch
SUMMARY:Countrynight mit George Hug & Band
DESCRIPTION:Charity Ride Out \nAfter Party
URL:https://xn--msimusig-0za.ch/event/countrynight-mit-george-hug-band/
LOCATION:8330 Pfäffikon ZH\, Schanzweg 11
CATEGORIES:George Hug
END:VEVENT
END:VCALENDAR