BEGIN:VCALENDAR
VERSION:2.0
PRODID:-//Mäsimusig - ECPv6.15.20//NONSGML v1.0//EN
CALSCALE:GREGORIAN
METHOD:PUBLISH
X-ORIGINAL-URL:https://xn--msimusig-0za.ch
X-WR-CALDESC:Veranstaltungen im Mäsimusig
REFRESH-INTERVAL;VALUE=DURATION:PT1H
X-Robots-Tag:noindex
X-PUBLISHED-TTL:PT1H
BEGIN:VTIMEZONE
TZID:Europe/Zurich
BEGIN:DAYLIGHT
TZOFFSETFROM:+0100
TZOFFSETTO:+0200
TZNAME:CEST
DTSTART:20240331T010000
END:DAYLIGHT
BEGIN:STANDARD
TZOFFSETFROM:+0200
TZOFFSETTO:+0100
TZNAME:CET
DTSTART:20241027T010000
END:STANDARD
BEGIN:DAYLIGHT
TZOFFSETFROM:+0100
TZOFFSETTO:+0200
TZNAME:CEST
DTSTART:20250330T010000
END:DAYLIGHT
BEGIN:STANDARD
TZOFFSETFROM:+0200
TZOFFSETTO:+0100
TZNAME:CET
DTSTART:20251026T010000
END:STANDARD
BEGIN:DAYLIGHT
TZOFFSETFROM:+0100
TZOFFSETTO:+0200
TZNAME:CEST
DTSTART:20260329T010000
END:DAYLIGHT
BEGIN:STANDARD
TZOFFSETFROM:+0200
TZOFFSETTO:+0100
TZNAME:CET
DTSTART:20261025T010000
END:STANDARD
END:VTIMEZONE
BEGIN:VEVENT
DTSTART;TZID=Europe/Zurich:20251231T190000
DTEND;TZID=Europe/Zurich:20251231T230000
DTSTAMP:20260422T231323
CREATED:20250609T092151Z
LAST-MODIFIED:20250609T092151Z
UID:1591-1767207600-1767222000@xn--msimusig-0za.ch
SUMMARY:George Hug & Band
DESCRIPTION:Silvesterparty in Peter’s Music Room
URL:https://xn--msimusig-0za.ch/event/george-hug-band-12/
LOCATION:5723 Teufenthal
CATEGORIES:George Hug
END:VEVENT
BEGIN:VEVENT
DTSTART;TZID=Europe/Zurich:20251129T200000
DTEND;TZID=Europe/Zurich:20251129T220000
DTSTAMP:20260422T231323
CREATED:20250609T085823Z
LAST-MODIFIED:20251123T195808Z
UID:1574-1764446400-1764453600@xn--msimusig-0za.ch
SUMMARY:George Hug & TUMENI NOTES???
DESCRIPTION:Christmas Parade (Country X-Mas) in Peter’s Music Room
URL:https://xn--msimusig-0za.ch/event/george-hug-tumeni-notes/
LOCATION:5723 Teufenthal
CATEGORIES:Events,George Hug,Tumeni Notes???
END:VEVENT
BEGIN:VEVENT
DTSTART;TZID=Europe/Zurich:20250801T110000
DTEND;TZID=Europe/Zurich:20250801T160000
DTSTAMP:20260422T231323
CREATED:20250609T081524Z
LAST-MODIFIED:20250609T094135Z
UID:1556-1754046000-1754064000@xn--msimusig-0za.ch
SUMMARY:George Hug & Band
DESCRIPTION:Country-Brunch zum Nationalfeiertag in PETER’S MUSIC ROOM
URL:https://xn--msimusig-0za.ch/event/peters-music-room/
LOCATION:5723 Teufenthal
CATEGORIES:George Hug
END:VEVENT
END:VCALENDAR