BEGIN:VCALENDAR
VERSION:2.0
PRODID:-//Mäsimusig - ECPv6.15.17//NONSGML v1.0//EN
CALSCALE:GREGORIAN
METHOD:PUBLISH
X-ORIGINAL-URL:https://xn--msimusig-0za.ch
X-WR-CALDESC:Veranstaltungen im Mäsimusig
REFRESH-INTERVAL;VALUE=DURATION:PT1H
X-Robots-Tag:noindex
X-PUBLISHED-TTL:PT1H
BEGIN:VTIMEZONE
TZID:Europe/Zurich
BEGIN:DAYLIGHT
TZOFFSETFROM:+0100
TZOFFSETTO:+0200
TZNAME:CEST
DTSTART:20230326T010000
END:DAYLIGHT
BEGIN:STANDARD
TZOFFSETFROM:+0200
TZOFFSETTO:+0100
TZNAME:CET
DTSTART:20231029T010000
END:STANDARD
BEGIN:DAYLIGHT
TZOFFSETFROM:+0100
TZOFFSETTO:+0200
TZNAME:CEST
DTSTART:20240331T010000
END:DAYLIGHT
BEGIN:STANDARD
TZOFFSETFROM:+0200
TZOFFSETTO:+0100
TZNAME:CET
DTSTART:20241027T010000
END:STANDARD
BEGIN:DAYLIGHT
TZOFFSETFROM:+0100
TZOFFSETTO:+0200
TZNAME:CEST
DTSTART:20250330T010000
END:DAYLIGHT
BEGIN:STANDARD
TZOFFSETFROM:+0200
TZOFFSETTO:+0100
TZNAME:CET
DTSTART:20251026T010000
END:STANDARD
END:VTIMEZONE
BEGIN:VEVENT
DTSTART;TZID=Europe/Zurich:20241126T190000
DTEND;TZID=Europe/Zurich:20241126T201500
DTSTAMP:20260419T182345
CREATED:20241014T125854Z
LAST-MODIFIED:20241014T125854Z
UID:1405-1732647600-1732652100@xn--msimusig-0za.ch
SUMMARY:Improvisationsworkshop Für Fortgeschrittene
DESCRIPTION:Ich bin sicher\, Teilnehmenden haben ganz viel Musik in sich…. \nWir machen uns auf die Suche und versuchen die Musik an die Oberfläche zu bekommen…..
URL:https://xn--msimusig-0za.ch/event/improvisationsworkshop-fuer-fortgeschrittene/2024-11-26/
CATEGORIES:Schülerprojekte
END:VEVENT
BEGIN:VEVENT
DTSTART;TZID=Europe/Zurich:20241119T190000
DTEND;TZID=Europe/Zurich:20241119T201500
DTSTAMP:20260419T182345
CREATED:20241014T125854Z
LAST-MODIFIED:20241014T125854Z
UID:1404-1732042800-1732047300@xn--msimusig-0za.ch
SUMMARY:Improvisationsworkshop Für Fortgeschrittene
DESCRIPTION:Ich bin sicher\, Teilnehmenden haben ganz viel Musik in sich…. \nWir machen uns auf die Suche und versuchen die Musik an die Oberfläche zu bekommen…..
URL:https://xn--msimusig-0za.ch/event/improvisationsworkshop-fuer-fortgeschrittene/2024-11-19/
CATEGORIES:Schülerprojekte
END:VEVENT
BEGIN:VEVENT
DTSTART;TZID=Europe/Zurich:20241029T190000
DTEND;TZID=Europe/Zurich:20241029T201500
DTSTAMP:20260419T182345
CREATED:20241014T125854Z
LAST-MODIFIED:20241014T125854Z
UID:1401-1730228400-1730232900@xn--msimusig-0za.ch
SUMMARY:Improvisationsworkshop Für Fortgeschrittene
DESCRIPTION:Ich bin sicher\, Teilnehmenden haben ganz viel Musik in sich…. \nWir machen uns auf die Suche und versuchen die Musik an die Oberfläche zu bekommen…..
URL:https://xn--msimusig-0za.ch/event/improvisationsworkshop-fuer-fortgeschrittene/2024-10-29/
CATEGORIES:Schülerprojekte
END:VEVENT
BEGIN:VEVENT
DTSTART;TZID=Europe/Zurich:20241022T190000
DTEND;TZID=Europe/Zurich:20241022T201500
DTSTAMP:20260419T182345
CREATED:20241014T125854Z
LAST-MODIFIED:20241014T125854Z
UID:1399-1729623600-1729628100@xn--msimusig-0za.ch
SUMMARY:Improvisationsworkshop Für Fortgeschrittene
DESCRIPTION:Ich bin sicher\, Teilnehmenden haben ganz viel Musik in sich…. \nWir machen uns auf die Suche und versuchen die Musik an die Oberfläche zu bekommen…..
URL:https://xn--msimusig-0za.ch/event/improvisationsworkshop-fuer-fortgeschrittene/2024-10-22/
CATEGORIES:Schülerprojekte
END:VEVENT
END:VCALENDAR